BEGIN:VCALENDAR
VERSION:2.0
PRODID:-//Dorset Raynet - ECPv6.15.20//NONSGML v1.0//EN
CALSCALE:GREGORIAN
METHOD:PUBLISH
X-WR-CALNAME:Dorset Raynet
X-ORIGINAL-URL:https://www.dorsetraynet.org
X-WR-CALDESC:Events for Dorset Raynet
REFRESH-INTERVAL;VALUE=DURATION:PT1H
X-Robots-Tag:noindex
X-PUBLISHED-TTL:PT1H
BEGIN:VTIMEZONE
TZID:UTC
BEGIN:STANDARD
TZOFFSETFROM:+0000
TZOFFSETTO:+0000
TZNAME:UTC
DTSTART:20240101T000000
END:STANDARD
END:VTIMEZONE
BEGIN:VEVENT
DTSTART;TZID=UTC:20251118T193000
DTEND;TZID=UTC:20251118T213000
DTSTAMP:20260419T224301
CREATED:20250219T133911Z
LAST-MODIFIED:20250219T133911Z
UID:313-1763494200-1763501400@www.dorsetraynet.org
SUMMARY:Committee Meeting
DESCRIPTION:
URL:https://www.dorsetraynet.org/event/committee-meeting-7/
CATEGORIES:MEETING
END:VEVENT
BEGIN:VEVENT
DTSTART;TZID=UTC:20251129T080000
DTEND;TZID=UTC:20251129T150000
DTSTAMP:20260419T224301
CREATED:20250316T163130Z
LAST-MODIFIED:20250823T094738Z
UID:329-1764403200-1764428400@www.dorsetraynet.org
SUMMARY:NATB HINTON ADMIRAL
DESCRIPTION:
URL:https://www.dorsetraynet.org/event/natb-venue-tbc-3/
CATEGORIES:EVENT
END:VEVENT
BEGIN:VEVENT
DTSTART;TZID=UTC:20251130T080000
DTEND;TZID=UTC:20251130T150000
DTSTAMP:20260419T224301
CREATED:20250316T163216Z
LAST-MODIFIED:20250823T094807Z
UID:331-1764489600-1764514800@www.dorsetraynet.org
SUMMARY:NATB HINTON ADMIRAL
DESCRIPTION:
URL:https://www.dorsetraynet.org/event/natb-venue-tbc-4/
CATEGORIES:EVENT
END:VEVENT
END:VCALENDAR