BEGIN:VCALENDAR
VERSION:2.0
PRODID:-//Dorset Raynet - ECPv6.15.20//NONSGML v1.0//EN
CALSCALE:GREGORIAN
METHOD:PUBLISH
X-ORIGINAL-URL:https://www.dorsetraynet.org
X-WR-CALDESC:Events for Dorset Raynet
REFRESH-INTERVAL;VALUE=DURATION:PT1H
X-Robots-Tag:noindex
X-PUBLISHED-TTL:PT1H
BEGIN:VTIMEZONE
TZID:UTC
BEGIN:STANDARD
TZOFFSETFROM:+0000
TZOFFSETTO:+0000
TZNAME:UTC
DTSTART:20240101T000000
END:STANDARD
END:VTIMEZONE
BEGIN:VEVENT
DTSTART;TZID=UTC:20250520T193000
DTEND;TZID=UTC:20250520T213000
DTSTAMP:20260420T090348
CREATED:20250219T133641Z
LAST-MODIFIED:20250219T133641Z
UID:307-1747769400-1747776600@www.dorsetraynet.org
SUMMARY:Committee Meeting
DESCRIPTION:
URL:https://www.dorsetraynet.org/event/committee-meeting-4/
CATEGORIES:MEETING
END:VEVENT
BEGIN:VEVENT
DTSTART;TZID=UTC:20250525T080000
DTEND;TZID=UTC:20250525T170000
DTSTAMP:20260420T090348
CREATED:20241107T172057Z
LAST-MODIFIED:20241107T172057Z
UID:278-1748160000-1748192400@www.dorsetraynet.org
SUMMARY:RNLI Mudeford PR
DESCRIPTION:
URL:https://www.dorsetraynet.org/event/rnli-mudeford-pr/
CATEGORIES:PR
END:VEVENT
END:VCALENDAR