BEGIN:VCALENDAR
VERSION:2.0
PRODID:-//Dorset Raynet - ECPv6.15.20//NONSGML v1.0//EN
CALSCALE:GREGORIAN
METHOD:PUBLISH
X-WR-CALNAME:Dorset Raynet
X-ORIGINAL-URL:https://www.dorsetraynet.org
X-WR-CALDESC:Events for Dorset Raynet
REFRESH-INTERVAL;VALUE=DURATION:PT1H
X-Robots-Tag:noindex
X-PUBLISHED-TTL:PT1H
BEGIN:VTIMEZONE
TZID:UTC
BEGIN:STANDARD
TZOFFSETFROM:+0000
TZOFFSETTO:+0000
TZNAME:UTC
DTSTART:20230101T000000
END:STANDARD
END:VTIMEZONE
BEGIN:VEVENT
DTSTART;TZID=UTC:20241005T073000
DTEND;TZID=UTC:20241005T150000
DTSTAMP:20260420T200117
CREATED:20240211T133213Z
LAST-MODIFIED:20241107T170528Z
UID:213-1728113400-1728140400@www.dorsetraynet.org
SUMMARY:NATB Dog Sled Hinton Admiral
DESCRIPTION:
URL:https://www.dorsetraynet.org/event/natb-dog-sled-venue-tba-11/
CATEGORIES:EVENT
END:VEVENT
BEGIN:VEVENT
DTSTART;TZID=UTC:20241005T080000
DTEND;TZID=UTC:20241005T180000
DTSTAMP:20260420T200117
CREATED:20240211T134233Z
LAST-MODIFIED:20240211T134233Z
UID:221-1728115200-1728151200@www.dorsetraynet.org
SUMMARY:Scout Day Event - Sixpenny Handley
DESCRIPTION:
URL:https://www.dorsetraynet.org/event/scout-day-event-sixpenny-handley/
CATEGORIES:EVENT
END:VEVENT
BEGIN:VEVENT
DTSTART;TZID=UTC:20241006T070000
DTEND;TZID=UTC:20241006T180000
DTSTAMP:20260420T200117
CREATED:20240211T132925Z
LAST-MODIFIED:20240211T132925Z
UID:209-1728198000-1728237600@www.dorsetraynet.org
SUMMARY:Rotary Cancer Research Cycle Ride
DESCRIPTION:
URL:https://www.dorsetraynet.org/event/rotary-cancer-research-cycle-ride/
CATEGORIES:EVENT
END:VEVENT
BEGIN:VEVENT
DTSTART;TZID=UTC:20241006T073000
DTEND;TZID=UTC:20241006T150000
DTSTAMP:20260420T200117
CREATED:20240211T133255Z
LAST-MODIFIED:20241107T170457Z
UID:215-1728199800-1728226800@www.dorsetraynet.org
SUMMARY:NATB Dog Sled Hinton Admiral
DESCRIPTION:
URL:https://www.dorsetraynet.org/event/natb-dog-sled-venue-tba-12/
CATEGORIES:EVENT
END:VEVENT
BEGIN:VEVENT
DTSTART;TZID=UTC:20241009T073000
DTEND;TZID=UTC:20241009T230000
DTSTAMP:20260420T200117
CREATED:20240211T133049Z
LAST-MODIFIED:20240211T133049Z
UID:211-1728459000-1728514800@www.dorsetraynet.org
SUMMARY:Tavistock Goose Fair
DESCRIPTION:
URL:https://www.dorsetraynet.org/event/tavistock-goose-fair-2/
CATEGORIES:ASSIST
END:VEVENT
BEGIN:VEVENT
DTSTART;TZID=UTC:20241013T080000
DTEND;TZID=UTC:20241013T180000
DTSTAMP:20260420T200117
CREATED:20240813T214707Z
LAST-MODIFIED:20240813T214707Z
UID:252-1728806400-1728842400@www.dorsetraynet.org
SUMMARY:EGB HARDY RIDE
DESCRIPTION:
URL:https://www.dorsetraynet.org/event/egb-hardy-ride-2/
CATEGORIES:EVENT
END:VEVENT
BEGIN:VEVENT
DTSTART;TZID=UTC:20241026T100000
DTEND;TZID=UTC:20241026T150000
DTSTAMP:20260420T200117
CREATED:20240211T133449Z
LAST-MODIFIED:20240211T133449Z
UID:217-1729936800-1729954800@www.dorsetraynet.org
SUMMARY:Raynet National  AGM - Northern Ireland
DESCRIPTION:
URL:https://www.dorsetraynet.org/event/raynet-national-agm-northern-ireland/
CATEGORIES:MEETING
END:VEVENT
END:VCALENDAR