BEGIN:VCALENDAR
VERSION:2.0
PRODID:-//Dorset Raynet - ECPv6.15.20//NONSGML v1.0//EN
CALSCALE:GREGORIAN
METHOD:PUBLISH
X-ORIGINAL-URL:https://www.dorsetraynet.org
X-WR-CALDESC:Events for Dorset Raynet
REFRESH-INTERVAL;VALUE=DURATION:PT1H
X-Robots-Tag:noindex
X-PUBLISHED-TTL:PT1H
BEGIN:VTIMEZONE
TZID:UTC
BEGIN:STANDARD
TZOFFSETFROM:+0000
TZOFFSETTO:+0000
TZNAME:UTC
DTSTART:20230101T000000
END:STANDARD
END:VTIMEZONE
BEGIN:VEVENT
DTSTART;TZID=UTC:20240602T073000
DTEND;TZID=UTC:20240602T180000
DTSTAMP:20260421T022511
CREATED:20240211T132215Z
LAST-MODIFIED:20240211T132215Z
UID:201-1717313400-1717351200@www.dorsetraynet.org
SUMMARY:EGB Piddle Ride
DESCRIPTION:
URL:https://www.dorsetraynet.org/event/egb-piddle-ride-2/
CATEGORIES:EVENT
END:VEVENT
BEGIN:VEVENT
DTSTART;TZID=UTC:20240614T180000
DTEND;TZID=UTC:20240614T220000
DTSTAMP:20260421T022511
CREATED:20240405T063143Z
LAST-MODIFIED:20240405T063143Z
UID:229-1718388000-1718402400@www.dorsetraynet.org
SUMMARY:Purbeck 10K Run
DESCRIPTION:
URL:https://www.dorsetraynet.org/event/purbeck-10k-run/
CATEGORIES:EVENT
END:VEVENT
END:VCALENDAR