BEGIN:VCALENDAR
VERSION:2.0
PRODID:-//Dorset Raynet - ECPv6.15.20//NONSGML v1.0//EN
CALSCALE:GREGORIAN
METHOD:PUBLISH
X-WR-CALNAME:Dorset Raynet
X-ORIGINAL-URL:https://www.dorsetraynet.org
X-WR-CALDESC:Events for Dorset Raynet
REFRESH-INTERVAL;VALUE=DURATION:PT1H
X-Robots-Tag:noindex
X-PUBLISHED-TTL:PT1H
BEGIN:VTIMEZONE
TZID:UTC
BEGIN:STANDARD
TZOFFSETFROM:+0000
TZOFFSETTO:+0000
TZNAME:UTC
DTSTART:20220101T000000
END:STANDARD
END:VTIMEZONE
BEGIN:VEVENT
DTSTART;TZID=UTC:20231209T070000
DTEND;TZID=UTC:20231209T150000
DTSTAMP:20260421T120712
CREATED:20230607T091831Z
LAST-MODIFIED:20230914T092750Z
UID:128-1702105200-1702134000@www.dorsetraynet.org
SUMMARY:NATB Dog Sled Yateley Forest (off M3 J4a)
DESCRIPTION:
URL:https://www.dorsetraynet.org/event/natb-dog-sled-venue-tba-5/
CATEGORIES:EVENT
END:VEVENT
BEGIN:VEVENT
DTSTART;TZID=UTC:20231210T070000
DTEND;TZID=UTC:20231210T150000
DTSTAMP:20260421T120712
CREATED:20230607T091913Z
LAST-MODIFIED:20230914T092728Z
UID:130-1702191600-1702220400@www.dorsetraynet.org
SUMMARY:NATB Dog Sled Yateley Forest (off M3 J4a)
DESCRIPTION:
URL:https://www.dorsetraynet.org/event/natb-dog-sled-venue-tba-6/
CATEGORIES:EVENT
END:VEVENT
BEGIN:VEVENT
DTSTART;TZID=UTC:20231216T190000
DTEND;TZID=UTC:20231216T230000
DTSTAMP:20260421T120712
CREATED:20230607T092025Z
LAST-MODIFIED:20230607T092025Z
UID:132-1702753200-1702767600@www.dorsetraynet.org
SUMMARY:Christmas Meal
DESCRIPTION:
URL:https://www.dorsetraynet.org/event/christmas-meal/
CATEGORIES:MEETING
END:VEVENT
END:VCALENDAR