BEGIN:VCALENDAR
VERSION:2.0
PRODID:-//Dorset Raynet - ECPv6.15.20//NONSGML v1.0//EN
CALSCALE:GREGORIAN
METHOD:PUBLISH
X-WR-CALNAME:Dorset Raynet
X-ORIGINAL-URL:https://www.dorsetraynet.org
X-WR-CALDESC:Events for Dorset Raynet
REFRESH-INTERVAL;VALUE=DURATION:PT1H
X-Robots-Tag:noindex
X-PUBLISHED-TTL:PT1H
BEGIN:VTIMEZONE
TZID:UTC
BEGIN:STANDARD
TZOFFSETFROM:+0000
TZOFFSETTO:+0000
TZNAME:UTC
DTSTART:20220101T000000
END:STANDARD
END:VTIMEZONE
BEGIN:VEVENT
DTSTART;TZID=UTC:20231008T070000
DTEND;TZID=UTC:20231008T190000
DTSTAMP:20260420T080331
CREATED:20230607T085736Z
LAST-MODIFIED:20230607T085736Z
UID:114-1696748400-1696791600@www.dorsetraynet.org
SUMMARY:Rotary 108 Cycle Ride
DESCRIPTION:
URL:https://www.dorsetraynet.org/event/rotary-108-cycle-ride/
CATEGORIES:EVENT
END:VEVENT
BEGIN:VEVENT
DTSTART;TZID=UTC:20231007T080000
DTEND;TZID=UTC:20231007T190000
DTSTAMP:20260420T080331
CREATED:20230912T125722Z
LAST-MODIFIED:20230912T125722Z
UID:162-1696665600-1696705200@www.dorsetraynet.org
SUMMARY:Scouts Day Event
DESCRIPTION:
URL:https://www.dorsetraynet.org/event/scouts-day-event/
CATEGORIES:EVENT
END:VEVENT
BEGIN:VEVENT
DTSTART;TZID=UTC:20230917T070000
DTEND;TZID=UTC:20230917T180000
DTSTAMP:20260420T080331
CREATED:20230607T085542Z
LAST-MODIFIED:20230817T164240Z
UID:112-1694934000-1694973600@www.dorsetraynet.org
SUMMARY:CANCELLED  EGB Bonham
DESCRIPTION:
URL:https://www.dorsetraynet.org/event/egb-bonham/
CATEGORIES:EVENT
END:VEVENT
BEGIN:VEVENT
DTSTART;TZID=UTC:20230903T090000
DTEND;TZID=UTC:20230903T150000
DTSTAMP:20260420T080331
CREATED:20230607T085408Z
LAST-MODIFIED:20230607T085408Z
UID:110-1693731600-1693753200@www.dorsetraynet.org
SUMMARY:The Beast
DESCRIPTION:
URL:https://www.dorsetraynet.org/event/the-beast/
CATEGORIES:EVENT
END:VEVENT
BEGIN:VEVENT
DTSTART;TZID=UTC:20230813T060000
DTEND;TZID=UTC:20230813T170000
DTSTAMP:20260420T080331
CREATED:20230607T085252Z
LAST-MODIFIED:20230607T085252Z
UID:108-1691906400-1691946000@www.dorsetraynet.org
SUMMARY:Hamfest
DESCRIPTION:
URL:https://www.dorsetraynet.org/event/hamfest/
CATEGORIES:PR
END:VEVENT
BEGIN:VEVENT
DTSTART;TZID=UTC:20230723T100000
DTEND;TZID=UTC:20230723T160000
DTSTAMP:20260420T080331
CREATED:20230607T084155Z
LAST-MODIFIED:20230607T084823Z
UID:106-1690106400-1690128000@www.dorsetraynet.org
SUMMARY:Mudeford Lifeboat PR
DESCRIPTION:
URL:https://www.dorsetraynet.org/event/mudeford-lifeboat-pr/
CATEGORIES:PR
END:VEVENT
BEGIN:VEVENT
DTSTART;TZID=UTC:20230718T190000
DTEND;TZID=UTC:20230718T220000
DTSTAMP:20260420T080331
CREATED:20230607T152613Z
LAST-MODIFIED:20230607T152613Z
UID:148-1689706800-1689717600@www.dorsetraynet.org
SUMMARY:Committee Meeting
DESCRIPTION:
URL:https://www.dorsetraynet.org/event/committee-meeting/
CATEGORIES:MEETING
END:VEVENT
BEGIN:VEVENT
DTSTART;TZID=UTC:20230611T070000
DTEND;TZID=UTC:20230611T180000
DTSTAMP:20260420T080331
CREATED:20230607T075525Z
LAST-MODIFIED:20230607T121840Z
UID:100-1686466800-1686506400@www.dorsetraynet.org
SUMMARY:EGB Piddle Ride
DESCRIPTION:
URL:https://www.dorsetraynet.org/event/egb-piddle-ride/
CATEGORIES:EVENT
END:VEVENT
END:VCALENDAR