BEGIN:VCALENDAR
VERSION:2.0
PRODID:-//Dorset Raynet - ECPv6.15.20//NONSGML v1.0//EN
CALSCALE:GREGORIAN
METHOD:PUBLISH
X-ORIGINAL-URL:https://www.dorsetraynet.org
X-WR-CALDESC:Events for Dorset Raynet
REFRESH-INTERVAL;VALUE=DURATION:PT1H
X-Robots-Tag:noindex
X-PUBLISHED-TTL:PT1H
BEGIN:VTIMEZONE
TZID:UTC
BEGIN:STANDARD
TZOFFSETFROM:+0000
TZOFFSETTO:+0000
TZNAME:UTC
DTSTART:20230101T000000
END:STANDARD
END:VTIMEZONE
BEGIN:VTIMEZONE
TZID:Europe/London
BEGIN:DAYLIGHT
TZOFFSETFROM:+0000
TZOFFSETTO:+0100
TZNAME:BST
DTSTART:20240331T010000
END:DAYLIGHT
BEGIN:STANDARD
TZOFFSETFROM:+0100
TZOFFSETTO:+0000
TZNAME:GMT
DTSTART:20241027T010000
END:STANDARD
BEGIN:DAYLIGHT
TZOFFSETFROM:+0000
TZOFFSETTO:+0100
TZNAME:BST
DTSTART:20250330T010000
END:DAYLIGHT
BEGIN:STANDARD
TZOFFSETFROM:+0100
TZOFFSETTO:+0000
TZNAME:GMT
DTSTART:20251026T010000
END:STANDARD
BEGIN:DAYLIGHT
TZOFFSETFROM:+0000
TZOFFSETTO:+0100
TZNAME:BST
DTSTART:20260329T010000
END:DAYLIGHT
BEGIN:STANDARD
TZOFFSETFROM:+0100
TZOFFSETTO:+0000
TZNAME:GMT
DTSTART:20261025T010000
END:STANDARD
END:VTIMEZONE
BEGIN:VEVENT
DTSTART;TZID=UTC:20251118T193000
DTEND;TZID=UTC:20251118T213000
DTSTAMP:20260419T160739
CREATED:20250219T133911Z
LAST-MODIFIED:20250219T133911Z
UID:313-1763494200-1763501400@www.dorsetraynet.org
SUMMARY:Committee Meeting
DESCRIPTION:
URL:https://www.dorsetraynet.org/event/committee-meeting-7/
CATEGORIES:MEETING
END:VEVENT
BEGIN:VEVENT
DTSTART;TZID=UTC:20251026T080000
DTEND;TZID=UTC:20251026T150000
DTSTAMP:20260419T160739
CREATED:20250316T163008Z
LAST-MODIFIED:20250823T094712Z
UID:327-1761465600-1761490800@www.dorsetraynet.org
SUMMARY:NATB HINTON ADMIRAL
DESCRIPTION:
URL:https://www.dorsetraynet.org/event/natb-venue-tbc-2/
CATEGORIES:EVENT
END:VEVENT
BEGIN:VEVENT
DTSTART;TZID=UTC:20251025T080000
DTEND;TZID=UTC:20251025T150000
DTSTAMP:20260419T160739
CREATED:20250316T162727Z
LAST-MODIFIED:20250823T094649Z
UID:325-1761379200-1761404400@www.dorsetraynet.org
SUMMARY:NATB HINTON ADMIRAL
DESCRIPTION:
URL:https://www.dorsetraynet.org/event/natb-venue-tbc/
CATEGORIES:EVENT
END:VEVENT
BEGIN:VEVENT
DTSTART;TZID=Europe/London:20251025T070000
DTEND;TZID=Europe/London:20251025T180000
DTSTAMP:20260419T160739
CREATED:20250802T143418Z
LAST-MODIFIED:20250802T143418Z
UID:351-1761375600-1761415200@www.dorsetraynet.org
SUMMARY:EGB Moreton (New ride)
DESCRIPTION:
URL:https://www.dorsetraynet.org/event/egb-moreton-new-ride/
CATEGORIES:EVENT
END:VEVENT
BEGIN:VEVENT
DTSTART;TZID=UTC:20251012T070000
DTEND;TZID=UTC:20251012T180000
DTSTAMP:20260419T160739
CREATED:20250219T134439Z
LAST-MODIFIED:20250219T134439Z
UID:321-1760252400-1760292000@www.dorsetraynet.org
SUMMARY:EGB Hardy Ride
DESCRIPTION:
URL:https://www.dorsetraynet.org/event/egb-hardy-ride-3/
CATEGORIES:EVENT
END:VEVENT
BEGIN:VEVENT
DTSTART;TZID=UTC:20251004T080000
DTEND;TZID=UTC:20251004T180000
DTSTAMP:20260419T160739
CREATED:20241107T172441Z
LAST-MODIFIED:20241107T172441Z
UID:284-1759564800-1759600800@www.dorsetraynet.org
SUMMARY:Scouts Day Exercise Venue TBC
DESCRIPTION:
URL:https://www.dorsetraynet.org/event/scouts-day-exercise-venue-tbc/
CATEGORIES:EVENT
END:VEVENT
BEGIN:VEVENT
DTSTART;TZID=UTC:20250923T193000
DTEND;TZID=UTC:20250923T213000
DTSTAMP:20260419T160739
CREATED:20250219T133827Z
LAST-MODIFIED:20250219T133827Z
UID:311-1758655800-1758663000@www.dorsetraynet.org
SUMMARY:Committee Meeting
DESCRIPTION:
URL:https://www.dorsetraynet.org/event/committee-meeting-6/
CATEGORIES:MEETING
END:VEVENT
BEGIN:VEVENT
DTSTART;TZID=Europe/London:20250921T140000
DTEND;TZID=Europe/London:20250921T220000
DTSTAMP:20260419T160739
CREATED:20250702T182842Z
LAST-MODIFIED:20250702T182957Z
UID:347-1758463200-1758492000@www.dorsetraynet.org
SUMMARY:Group BBQ At Milton Abbas
DESCRIPTION:
URL:https://www.dorsetraynet.org/event/group-bbq-at-milton-abbas/
CATEGORIES:MEETING
END:VEVENT
BEGIN:VEVENT
DTSTART;TZID=UTC:20250914T070000
DTEND;TZID=UTC:20250914T180000
DTSTAMP:20260419T160739
CREATED:20241107T172549Z
LAST-MODIFIED:20250703T151218Z
UID:286-1757833200-1757872800@www.dorsetraynet.org
SUMMARY:Cancer Research Bike Ride
DESCRIPTION:
URL:https://www.dorsetraynet.org/event/cancer-research-bike-ride/
CATEGORIES:EVENT
END:VEVENT
BEGIN:VEVENT
DTSTART;TZID=UTC:20250907T090000
DTEND;TZID=UTC:20250907T150000
DTSTAMP:20260419T160739
CREATED:20241107T172326Z
LAST-MODIFIED:20241107T172326Z
UID:282-1757235600-1757257200@www.dorsetraynet.org
SUMMARY:The Beast
DESCRIPTION:
URL:https://www.dorsetraynet.org/event/the-beast-3/
CATEGORIES:EVENT
END:VEVENT
BEGIN:VEVENT
DTSTART;TZID=UTC:20250810T070000
DTEND;TZID=UTC:20250810T170000
DTSTAMP:20260419T160739
CREATED:20241107T172219Z
LAST-MODIFIED:20241107T172219Z
UID:280-1754809200-1754845200@www.dorsetraynet.org
SUMMARY:Hamfest PR
DESCRIPTION:
URL:https://www.dorsetraynet.org/event/hamfest-pr-2/
CATEGORIES:PR
END:VEVENT
BEGIN:VEVENT
DTSTART;TZID=UTC:20250727T070000
DTEND;TZID=UTC:20250727T180000
DTSTAMP:20260419T160739
CREATED:20250219T134245Z
LAST-MODIFIED:20250219T134245Z
UID:319-1753599600-1753639200@www.dorsetraynet.org
SUMMARY:EGB Witham Vale
DESCRIPTION:
URL:https://www.dorsetraynet.org/event/egb-witham-vale/
CATEGORIES:EVENT
END:VEVENT
BEGIN:VEVENT
DTSTART;TZID=UTC:20250722T193000
DTEND;TZID=UTC:20250722T213000
DTSTAMP:20260419T160739
CREATED:20250219T133743Z
LAST-MODIFIED:20250219T133743Z
UID:309-1753212600-1753219800@www.dorsetraynet.org
SUMMARY:Committee Meeting
DESCRIPTION:
URL:https://www.dorsetraynet.org/event/committee-meeting-5/
CATEGORIES:MEETING
END:VEVENT
BEGIN:VEVENT
DTSTART;TZID=UTC:20250629T070000
DTEND;TZID=UTC:20250629T180000
DTSTAMP:20260419T160739
CREATED:20250219T134137Z
LAST-MODIFIED:20250219T134137Z
UID:317-1751180400-1751220000@www.dorsetraynet.org
SUMMARY:EGB Piddle Ride
DESCRIPTION:
URL:https://www.dorsetraynet.org/event/egb-piddle-ride-3/
CATEGORIES:EVENT
END:VEVENT
BEGIN:VEVENT
DTSTART;TZID=UTC:20250613T170000
DTEND;TZID=UTC:20250613T210000
DTSTAMP:20260419T160739
CREATED:20241128T135503Z
LAST-MODIFIED:20241128T135503Z
UID:292-1749834000-1749848400@www.dorsetraynet.org
SUMMARY:Purbeck 10K
DESCRIPTION:
URL:https://www.dorsetraynet.org/event/purbeck-10k/
CATEGORIES:EVENT
END:VEVENT
BEGIN:VEVENT
DTSTART;TZID=UTC:20250525T080000
DTEND;TZID=UTC:20250525T170000
DTSTAMP:20260419T160739
CREATED:20241107T172057Z
LAST-MODIFIED:20241107T172057Z
UID:278-1748160000-1748192400@www.dorsetraynet.org
SUMMARY:RNLI Mudeford PR
DESCRIPTION:
URL:https://www.dorsetraynet.org/event/rnli-mudeford-pr/
CATEGORIES:PR
END:VEVENT
BEGIN:VEVENT
DTSTART;TZID=UTC:20250520T193000
DTEND;TZID=UTC:20250520T213000
DTSTAMP:20260419T160739
CREATED:20250219T133641Z
LAST-MODIFIED:20250219T133641Z
UID:307-1747769400-1747776600@www.dorsetraynet.org
SUMMARY:Committee Meeting
DESCRIPTION:
URL:https://www.dorsetraynet.org/event/committee-meeting-4/
CATEGORIES:MEETING
END:VEVENT
BEGIN:VEVENT
DTSTART;TZID=UTC:20250412T080000
DTEND;TZID=UTC:20250412T180000
DTSTAMP:20260419T160739
CREATED:20241107T171939Z
LAST-MODIFIED:20250407T180920Z
UID:276-1744444800-1744480800@www.dorsetraynet.org
SUMMARY:EGB Cerne Abbas Date
DESCRIPTION:
URL:https://www.dorsetraynet.org/event/egb-cerne-abbas-date-tbc/
CATEGORIES:EVENT
END:VEVENT
BEGIN:VEVENT
DTSTART;TZID=UTC:20250330T070000
DTEND;TZID=UTC:20250330T160000
DTSTAMP:20260419T160739
CREATED:20241107T171821Z
LAST-MODIFIED:20250219T121036Z
UID:274-1743318000-1743350400@www.dorsetraynet.org
SUMMARY:NATB Dog Sled - Chepstow Racecourse
DESCRIPTION:
URL:https://www.dorsetraynet.org/event/natb-dog-sled-venue-tbc-2/
CATEGORIES:EVENT
END:VEVENT
BEGIN:VEVENT
DTSTART;TZID=UTC:20250329T070000
DTEND;TZID=UTC:20250329T160000
DTSTAMP:20260419T160739
CREATED:20241107T171736Z
LAST-MODIFIED:20250219T120947Z
UID:272-1743231600-1743264000@www.dorsetraynet.org
SUMMARY:NATB Dog Sled - Chepstow Racecourse
DESCRIPTION:
URL:https://www.dorsetraynet.org/event/natb-dog-sled-venue-tbc/
CATEGORIES:EVENT
END:VEVENT
BEGIN:VEVENT
DTSTART;TZID=UTC:20250325T193000
DTEND;TZID=UTC:20250325T213000
DTSTAMP:20260419T160739
CREATED:20250219T133557Z
LAST-MODIFIED:20250219T133557Z
UID:305-1742931000-1742938200@www.dorsetraynet.org
SUMMARY:Committee Meeting
DESCRIPTION:
URL:https://www.dorsetraynet.org/event/committee-meeting-3/
CATEGORIES:MEETING
END:VEVENT
BEGIN:VEVENT
DTSTART;TZID=UTC:20250322T170000
DTEND;TZID=UTC:20250322T170000
DTSTAMP:20260419T160739
CREATED:20241204T220247Z
LAST-MODIFIED:20250219T121149Z
UID:295-1742662800-1742662800@www.dorsetraynet.org
SUMMARY:Scouts Night Hike - Copythorne
DESCRIPTION:
URL:https://www.dorsetraynet.org/event/scouts-night-hike-venue-tba/
CATEGORIES:EVENT
END:VEVENT
BEGIN:VEVENT
DTSTART;TZID=UTC:20250315T183000
DTEND;TZID=UTC:20250315T230000
DTSTAMP:20260419T160739
CREATED:20250219T134011Z
LAST-MODIFIED:20250219T134011Z
UID:315-1742063400-1742079600@www.dorsetraynet.org
SUMMARY:County AGM
DESCRIPTION:
URL:https://www.dorsetraynet.org/event/county-agm-2/
CATEGORIES:MEETING
END:VEVENT
BEGIN:VEVENT
DTSTART;TZID=UTC:20250223T070000
DTEND;TZID=UTC:20250223T160000
DTSTAMP:20260419T160739
CREATED:20241107T171527Z
LAST-MODIFIED:20241107T171614Z
UID:269-1740294000-1740326400@www.dorsetraynet.org
SUMMARY:NATB Dog Sled Hinton Admiral Championship
DESCRIPTION:
URL:https://www.dorsetraynet.org/event/natb-dog-sled-hinton-admiral-championships/
CATEGORIES:EVENT
END:VEVENT
BEGIN:VEVENT
DTSTART;TZID=UTC:20250222T070000
DTEND;TZID=UTC:20250222T160000
DTSTAMP:20260419T160739
CREATED:20241107T171427Z
LAST-MODIFIED:20241107T171427Z
UID:267-1740207600-1740240000@www.dorsetraynet.org
SUMMARY:NATB Dog Sled Hinton Admiral Championship
DESCRIPTION:
URL:https://www.dorsetraynet.org/event/natb-dog-sled-hinton-admiral-championship/
CATEGORIES:EVENT
END:VEVENT
BEGIN:VEVENT
DTSTART;TZID=UTC:20250125T170000
DTEND;TZID=UTC:20250125T233000
DTSTAMP:20260419T160739
CREATED:20241107T171028Z
LAST-MODIFIED:20241107T171028Z
UID:265-1737824400-1737847800@www.dorsetraynet.org
SUMMARY:NATB Dog Sled Night Run West Moors
DESCRIPTION:
URL:https://www.dorsetraynet.org/event/natb-dog-sled-night-run-west-moors/
CATEGORIES:EVENT
END:VEVENT
BEGIN:VEVENT
DTSTART;TZID=UTC:20250121T193000
DTEND;TZID=UTC:20250121T213000
DTSTAMP:20260419T160739
CREATED:20250219T133417Z
LAST-MODIFIED:20250219T133417Z
UID:303-1737487800-1737495000@www.dorsetraynet.org
SUMMARY:Committee Meeting
DESCRIPTION:
URL:https://www.dorsetraynet.org/event/committee-meeting-2/
CATEGORIES:MEETING
END:VEVENT
BEGIN:VEVENT
DTSTART;TZID=UTC:20241221T190000
DTEND;TZID=UTC:20241221T230000
DTSTAMP:20260419T160739
CREATED:20241107T170842Z
LAST-MODIFIED:20241107T170842Z
UID:263-1734807600-1734822000@www.dorsetraynet.org
SUMMARY:Christmas Meal
DESCRIPTION:
URL:https://www.dorsetraynet.org/event/christmas-meal-2/
CATEGORIES:MEETING
END:VEVENT
BEGIN:VEVENT
DTSTART;TZID=UTC:20241103T080000
DTEND;TZID=UTC:20241103T170000
DTSTAMP:20260419T160739
CREATED:20241107T170713Z
LAST-MODIFIED:20241107T170713Z
UID:261-1730620800-1730653200@www.dorsetraynet.org
SUMMARY:NATB Dog Sled Hinton Admiral
DESCRIPTION:
URL:https://www.dorsetraynet.org/event/natb-dog-sled-hinton-admiral-2/
CATEGORIES:EVENT
END:VEVENT
BEGIN:VEVENT
DTSTART;TZID=UTC:20241102T100000
DTEND;TZID=UTC:20241102T150000
DTSTAMP:20260419T160739
CREATED:20240211T133606Z
LAST-MODIFIED:20241107T170406Z
UID:219-1730541600-1730559600@www.dorsetraynet.org
SUMMARY:Cancelled Zone 7 Meeting
DESCRIPTION:
URL:https://www.dorsetraynet.org/event/zone-7-meeting-3/
CATEGORIES:MEETING
END:VEVENT
END:VCALENDAR