BEGIN:VCALENDAR
VERSION:2.0
PRODID:-//Dorset Raynet - ECPv6.15.20//NONSGML v1.0//EN
CALSCALE:GREGORIAN
METHOD:PUBLISH
X-ORIGINAL-URL:https://www.dorsetraynet.org
X-WR-CALDESC:Events for Dorset Raynet
REFRESH-INTERVAL;VALUE=DURATION:PT1H
X-Robots-Tag:noindex
X-PUBLISHED-TTL:PT1H
BEGIN:VTIMEZONE
TZID:UTC
BEGIN:STANDARD
TZOFFSETFROM:+0000
TZOFFSETTO:+0000
TZNAME:UTC
DTSTART:20240101T000000
END:STANDARD
END:VTIMEZONE
BEGIN:VTIMEZONE
TZID:Europe/London
BEGIN:DAYLIGHT
TZOFFSETFROM:+0000
TZOFFSETTO:+0100
TZNAME:BST
DTSTART:20250330T010000
END:DAYLIGHT
BEGIN:STANDARD
TZOFFSETFROM:+0100
TZOFFSETTO:+0000
TZNAME:GMT
DTSTART:20251026T010000
END:STANDARD
BEGIN:DAYLIGHT
TZOFFSETFROM:+0000
TZOFFSETTO:+0100
TZNAME:BST
DTSTART:20260329T010000
END:DAYLIGHT
BEGIN:STANDARD
TZOFFSETFROM:+0100
TZOFFSETTO:+0000
TZNAME:GMT
DTSTART:20261025T010000
END:STANDARD
BEGIN:DAYLIGHT
TZOFFSETFROM:+0000
TZOFFSETTO:+0100
TZNAME:BST
DTSTART:20270328T010000
END:DAYLIGHT
BEGIN:STANDARD
TZOFFSETFROM:+0100
TZOFFSETTO:+0000
TZNAME:GMT
DTSTART:20271031T010000
END:STANDARD
END:VTIMEZONE
BEGIN:VEVENT
DTSTART;TZID=UTC:20251129T080000
DTEND;TZID=UTC:20251129T150000
DTSTAMP:20260420T035426
CREATED:20250316T163130Z
LAST-MODIFIED:20250823T094738Z
UID:329-1764403200-1764428400@www.dorsetraynet.org
SUMMARY:NATB HINTON ADMIRAL
DESCRIPTION:
URL:https://www.dorsetraynet.org/event/natb-venue-tbc-3/
CATEGORIES:EVENT
END:VEVENT
BEGIN:VEVENT
DTSTART;TZID=UTC:20251130T080000
DTEND;TZID=UTC:20251130T150000
DTSTAMP:20260420T035426
CREATED:20250316T163216Z
LAST-MODIFIED:20250823T094807Z
UID:331-1764489600-1764514800@www.dorsetraynet.org
SUMMARY:NATB HINTON ADMIRAL
DESCRIPTION:
URL:https://www.dorsetraynet.org/event/natb-venue-tbc-4/
CATEGORIES:EVENT
END:VEVENT
BEGIN:VEVENT
DTSTART;TZID=UTC:20251220T190000
DTEND;TZID=UTC:20251220T230000
DTSTAMP:20260420T035426
CREATED:20241107T172905Z
LAST-MODIFIED:20250316T162619Z
UID:290-1766257200-1766271600@www.dorsetraynet.org
SUMMARY:Christmas Meal
DESCRIPTION:
URL:https://www.dorsetraynet.org/event/christmas-meal-date-tbc-2/
CATEGORIES:MEETING
END:VEVENT
BEGIN:VEVENT
DTSTART;TZID=Europe/London:20260120T193000
DTEND;TZID=Europe/London:20260120T213000
DTSTAMP:20260420T035426
CREATED:20260327T151341Z
LAST-MODIFIED:20260327T151601Z
UID:368-1768937400-1768944600@www.dorsetraynet.org
SUMMARY:Committee Meeting
DESCRIPTION:
URL:https://www.dorsetraynet.org/event/committee-meeting-8/
CATEGORIES:MEETING
END:VEVENT
BEGIN:VEVENT
DTSTART;TZID=UTC:20260221T170000
DTEND;TZID=UTC:20260221T233000
DTSTAMP:20260420T035426
CREATED:20250316T163328Z
LAST-MODIFIED:20260120T171905Z
UID:333-1771693200-1771716600@www.dorsetraynet.org
SUMMARY:NATB Night Race Moors Valley
DESCRIPTION:
URL:https://www.dorsetraynet.org/event/natb-night-race-venue-tbc/
CATEGORIES:EVENT
END:VEVENT
BEGIN:VEVENT
DTSTART;TZID=Europe/London:20260310T193000
DTEND;TZID=Europe/London:20260310T213000
DTSTAMP:20260420T035426
CREATED:20260327T151458Z
LAST-MODIFIED:20260327T151458Z
UID:371-1773171000-1773178200@www.dorsetraynet.org
SUMMARY:Committee Meeting
DESCRIPTION:
URL:https://www.dorsetraynet.org/event/committee-meeting-9/
CATEGORIES:MEETING
END:VEVENT
BEGIN:VEVENT
DTSTART;TZID=Europe/London:20260321T160000
DTEND;TZID=Europe/London:20260322T050000
DTSTAMP:20260420T035426
CREATED:20260327T151753Z
LAST-MODIFIED:20260327T151753Z
UID:374-1774108800-1774155600@www.dorsetraynet.org
SUMMARY:Scouts Night Hike - Ferney Crofts
DESCRIPTION:
URL:https://www.dorsetraynet.org/event/scouts-night-hike-ferney-crofts/
CATEGORIES:EVENT
END:VEVENT
BEGIN:VEVENT
DTSTART;TZID=UTC:20260328T080000
DTEND;TZID=UTC:20260328T150000
DTSTAMP:20260420T035426
CREATED:20250316T163501Z
LAST-MODIFIED:20260120T171600Z
UID:339-1774684800-1774710000@www.dorsetraynet.org
SUMMARY:NATB Chepstow Racecourse
DESCRIPTION:
URL:https://www.dorsetraynet.org/event/natb-venue-tbc-7/
CATEGORIES:EVENT
END:VEVENT
BEGIN:VEVENT
DTSTART;TZID=Europe/London:20260328T080000
DTEND;TZID=Europe/London:20260328T170000
DTSTAMP:20260420T035426
CREATED:20251006T233918Z
LAST-MODIFIED:20260327T151002Z
UID:362-1774684800-1774717200@www.dorsetraynet.org
SUMMARY:EGB Moreton Ride
DESCRIPTION:
URL:https://www.dorsetraynet.org/event/egb-moreton-ride/
CATEGORIES:EVENT
END:VEVENT
BEGIN:VEVENT
DTSTART;TZID=UTC:20260329T080000
DTEND;TZID=UTC:20260329T150000
DTSTAMP:20260420T035426
CREATED:20250316T163539Z
LAST-MODIFIED:20260120T171534Z
UID:341-1774771200-1774796400@www.dorsetraynet.org
SUMMARY:NATB Chepstow Racecourse
DESCRIPTION:
URL:https://www.dorsetraynet.org/event/natb-venue-tbc-8/
CATEGORIES:EVENT
END:VEVENT
BEGIN:VEVENT
DTSTART;TZID=Europe/London:20260411T183000
DTEND;TZID=Europe/London:20260411T223000
DTSTAMP:20260420T035426
CREATED:20260327T151914Z
LAST-MODIFIED:20260327T151914Z
UID:376-1775932200-1775946600@www.dorsetraynet.org
SUMMARY:Dorset Raynet AGM
DESCRIPTION:
URL:https://www.dorsetraynet.org/event/dorset-raynet-agm/
CATEGORIES:MEETING
END:VEVENT
BEGIN:VEVENT
DTSTART;TZID=Europe/London:20260418T073000
DTEND;TZID=Europe/London:20260418T183000
DTSTAMP:20260420T035426
CREATED:20260327T152122Z
LAST-MODIFIED:20260327T152122Z
UID:378-1776497400-1776537000@www.dorsetraynet.org
SUMMARY:EGB Cerne Abbas
DESCRIPTION:
URL:https://www.dorsetraynet.org/event/egb-cerne-abbas-2/
CATEGORIES:EVENT
END:VEVENT
BEGIN:VEVENT
DTSTART;TZID=Europe/London:20260519T193000
DTEND;TZID=Europe/London:20260519T213000
DTSTAMP:20260420T035426
CREATED:20260327T152208Z
LAST-MODIFIED:20260327T152208Z
UID:380-1779219000-1779226200@www.dorsetraynet.org
SUMMARY:Committee Meeting
DESCRIPTION:
URL:https://www.dorsetraynet.org/event/committee-meeting-10/
CATEGORIES:MEETING
END:VEVENT
BEGIN:VEVENT
DTSTART;TZID=Europe/London:20260524T080000
DTEND;TZID=Europe/London:20260524T170000
DTSTAMP:20260420T035426
CREATED:20260327T152323Z
LAST-MODIFIED:20260327T152323Z
UID:382-1779609600-1779642000@www.dorsetraynet.org
SUMMARY:Mudeford Quay RNLI Blue Light Day
DESCRIPTION:
URL:https://www.dorsetraynet.org/event/mudeford-quay-rnli-blue-light-day/
CATEGORIES:PR
END:VEVENT
BEGIN:VEVENT
DTSTART;TZID=Europe/London:20260612T170000
DTEND;TZID=Europe/London:20260612T220000
DTSTAMP:20260420T035426
CREATED:20260327T152428Z
LAST-MODIFIED:20260327T152428Z
UID:384-1781283600-1781301600@www.dorsetraynet.org
SUMMARY:Purbeck 10K
DESCRIPTION:
URL:https://www.dorsetraynet.org/event/purbeck-10k-2/
CATEGORIES:EVENT
END:VEVENT
BEGIN:VEVENT
DTSTART;TZID=Europe/London:20260621T073000
DTEND;TZID=Europe/London:20260621T183000
DTSTAMP:20260420T035426
CREATED:20260327T152532Z
LAST-MODIFIED:20260327T152532Z
UID:386-1782027000-1782066600@www.dorsetraynet.org
SUMMARY:EGB Piddle Ride
DESCRIPTION:
URL:https://www.dorsetraynet.org/event/egb-piddle-ride-4/
CATEGORIES:EVENT
END:VEVENT
BEGIN:VEVENT
DTSTART;TZID=Europe/London:20260719T130000
DTEND;TZID=Europe/London:20260719T210000
DTSTAMP:20260420T035426
CREATED:20260328T111331Z
LAST-MODIFIED:20260328T111331Z
UID:416-1784466000-1784494800@www.dorsetraynet.org
SUMMARY:Group BBQ
DESCRIPTION:
URL:https://www.dorsetraynet.org/event/group-bbq/
CATEGORIES:MEETING
END:VEVENT
BEGIN:VEVENT
DTSTART;TZID=Europe/London:20260802T073000
DTEND;TZID=Europe/London:20260802T183000
DTSTAMP:20260420T035426
CREATED:20260327T153106Z
LAST-MODIFIED:20260327T153106Z
UID:388-1785655800-1785695400@www.dorsetraynet.org
SUMMARY:EGB Witham Vale
DESCRIPTION:
URL:https://www.dorsetraynet.org/event/egb-witham-vale-2/
CATEGORIES:EVENT
END:VEVENT
BEGIN:VEVENT
DTSTART;TZID=Europe/London:20260809T070000
DTEND;TZID=Europe/London:20260809T170000
DTSTAMP:20260420T035426
CREATED:20260327T153200Z
LAST-MODIFIED:20260327T153200Z
UID:390-1786258800-1786294800@www.dorsetraynet.org
SUMMARY:Hamfest
DESCRIPTION:
URL:https://www.dorsetraynet.org/event/hamfest-2/
CATEGORIES:PR
END:VEVENT
BEGIN:VEVENT
DTSTART;TZID=Europe/London:20260818T193000
DTEND;TZID=Europe/London:20260818T213000
DTSTAMP:20260420T035426
CREATED:20260327T153722Z
LAST-MODIFIED:20260327T153722Z
UID:392-1787081400-1787088600@www.dorsetraynet.org
SUMMARY:Committee Meeting
DESCRIPTION:
URL:https://www.dorsetraynet.org/event/committee-meeting-11/
CATEGORIES:MEETING
END:VEVENT
BEGIN:VEVENT
DTSTART;TZID=Europe/London:20260906T090000
DTEND;TZID=Europe/London:20260906T160000
DTSTAMP:20260420T035426
CREATED:20260327T154032Z
LAST-MODIFIED:20260327T154032Z
UID:394-1788685200-1788710400@www.dorsetraynet.org
SUMMARY:The Beast
DESCRIPTION:
URL:https://www.dorsetraynet.org/event/the-beast-4/
CATEGORIES:EVENT
END:VEVENT
BEGIN:VEVENT
DTSTART;TZID=Europe/London:20260920T080000
DTEND;TZID=Europe/London:20260920T170000
DTSTAMP:20260420T035426
CREATED:20260327T154214Z
LAST-MODIFIED:20260327T154214Z
UID:396-1789891200-1789923600@www.dorsetraynet.org
SUMMARY:Purbeck Marathon
DESCRIPTION:
URL:https://www.dorsetraynet.org/event/purbeck-marathon/
CATEGORIES:EVENT
END:VEVENT
BEGIN:VEVENT
DTSTART;TZID=Europe/London:20261003T070000
DTEND;TZID=Europe/London:20261003T150000
DTSTAMP:20260420T035426
CREATED:20260327T154505Z
LAST-MODIFIED:20260327T154505Z
UID:398-1791010800-1791039600@www.dorsetraynet.org
SUMMARY:NATB Hinton Admiral
DESCRIPTION:
URL:https://www.dorsetraynet.org/event/natb-hinton-admiral/
CATEGORIES:EVENT
END:VEVENT
BEGIN:VEVENT
DTSTART;TZID=Europe/London:20261003T070000
DTEND;TZID=Europe/London:20261003T190000
DTSTAMP:20260420T035426
CREATED:20251006T233719Z
LAST-MODIFIED:20260404T181822Z
UID:360-1791010800-1791054000@www.dorsetraynet.org
SUMMARY:Scouts Day Hike - Venue Foxlease
DESCRIPTION:
URL:https://www.dorsetraynet.org/event/scouts-day-hike-venue-tba/
CATEGORIES:EVENT
END:VEVENT
BEGIN:VEVENT
DTSTART;TZID=Europe/London:20261004T070000
DTEND;TZID=Europe/London:20261004T150000
DTSTAMP:20260420T035426
CREATED:20260327T154631Z
LAST-MODIFIED:20260327T154631Z
UID:400-1791097200-1791126000@www.dorsetraynet.org
SUMMARY:NATB Hinton Admiral
DESCRIPTION:
URL:https://www.dorsetraynet.org/event/natb-hinton-admiral-2/
CATEGORIES:EVENT
END:VEVENT
BEGIN:VEVENT
DTSTART;TZID=Europe/London:20261011T070000
DTEND;TZID=Europe/London:20261011T180000
DTSTAMP:20260420T035426
CREATED:20260327T172821Z
LAST-MODIFIED:20260327T172821Z
UID:412-1791702000-1791741600@www.dorsetraynet.org
SUMMARY:EGB Hardy Ride
DESCRIPTION:
URL:https://www.dorsetraynet.org/event/egb-hardy-ride-4/
CATEGORIES:EVENT
END:VEVENT
BEGIN:VEVENT
DTSTART;TZID=Europe/London:20261020T193000
DTEND;TZID=Europe/London:20261020T213000
DTSTAMP:20260420T035426
CREATED:20260327T154728Z
LAST-MODIFIED:20260327T154728Z
UID:402-1792524600-1792531800@www.dorsetraynet.org
SUMMARY:Committee Meeting
DESCRIPTION:
URL:https://www.dorsetraynet.org/event/committee-meeting-12/
CATEGORIES:MEETING
END:VEVENT
BEGIN:VEVENT
DTSTART;TZID=Europe/London:20261107T050000
DTEND;TZID=Europe/London:20261107T210000
DTSTAMP:20260420T035426
CREATED:20260328T111149Z
LAST-MODIFIED:20260328T111149Z
UID:414-1794027600-1794085200@www.dorsetraynet.org
SUMMARY:Milborne St. Andrew Fireworks
DESCRIPTION:
URL:https://www.dorsetraynet.org/event/milborne-st-andrew-fireworks/
CATEGORIES:EVENT
END:VEVENT
BEGIN:VEVENT
DTSTART;TZID=Europe/London:20261128T070000
DTEND;TZID=Europe/London:20261128T150000
DTSTAMP:20260420T035426
CREATED:20260327T154958Z
LAST-MODIFIED:20260327T154958Z
UID:404-1795849200-1795878000@www.dorsetraynet.org
SUMMARY:NATB Hinton Admiral
DESCRIPTION:
URL:https://www.dorsetraynet.org/event/natb-hinton-admiral-3/
CATEGORIES:EVENT
END:VEVENT
BEGIN:VEVENT
DTSTART;TZID=Europe/London:20261129T070000
DTEND;TZID=Europe/London:20261129T150000
DTSTAMP:20260420T035426
CREATED:20260327T155044Z
LAST-MODIFIED:20260327T155044Z
UID:406-1795935600-1795964400@www.dorsetraynet.org
SUMMARY:NATB Hinton Admiral
DESCRIPTION:
URL:https://www.dorsetraynet.org/event/natb-hinton-admiral-4/
CATEGORIES:EVENT
END:VEVENT
END:VCALENDAR