BEGIN:VCALENDAR
VERSION:2.0
PRODID:-//Dorset Raynet - ECPv6.15.20//NONSGML v1.0//EN
CALSCALE:GREGORIAN
METHOD:PUBLISH
X-WR-CALNAME:Dorset Raynet
X-ORIGINAL-URL:https://www.dorsetraynet.org
X-WR-CALDESC:Events for Dorset Raynet
REFRESH-INTERVAL;VALUE=DURATION:PT1H
X-Robots-Tag:noindex
X-PUBLISHED-TTL:PT1H
BEGIN:VTIMEZONE
TZID:UTC
BEGIN:STANDARD
TZOFFSETFROM:+0000
TZOFFSETTO:+0000
TZNAME:UTC
DTSTART:20240101T000000
END:STANDARD
END:VTIMEZONE
BEGIN:VEVENT
DTSTART;TZID=UTC:20251004T080000
DTEND;TZID=UTC:20251004T180000
DTSTAMP:20260420T020603
CREATED:20241107T172441Z
LAST-MODIFIED:20241107T172441Z
UID:284-1759564800-1759600800@www.dorsetraynet.org
SUMMARY:Scouts Day Exercise Venue TBC
DESCRIPTION:
URL:https://www.dorsetraynet.org/event/scouts-day-exercise-venue-tbc/
CATEGORIES:EVENT
END:VEVENT
END:VCALENDAR