BEGIN:VCALENDAR
VERSION:2.0
PRODID:-//Dorset Raynet - ECPv6.15.20//NONSGML v1.0//EN
CALSCALE:GREGORIAN
METHOD:PUBLISH
X-ORIGINAL-URL:https://www.dorsetraynet.org
X-WR-CALDESC:Events for Dorset Raynet
REFRESH-INTERVAL;VALUE=DURATION:PT1H
X-Robots-Tag:noindex
X-PUBLISHED-TTL:PT1H
BEGIN:VTIMEZONE
TZID:UTC
BEGIN:STANDARD
TZOFFSETFROM:+0000
TZOFFSETTO:+0000
TZNAME:UTC
DTSTART:20240101T000000
END:STANDARD
END:VTIMEZONE
BEGIN:VEVENT
DTSTART;TZID=UTC:20250727T070000
DTEND;TZID=UTC:20250727T180000
DTSTAMP:20260420T071349
CREATED:20250219T134245Z
LAST-MODIFIED:20250219T134245Z
UID:319-1753599600-1753639200@www.dorsetraynet.org
SUMMARY:EGB Witham Vale
DESCRIPTION:
URL:https://www.dorsetraynet.org/event/egb-witham-vale/
CATEGORIES:EVENT
END:VEVENT
END:VCALENDAR