BEGIN:VCALENDAR
VERSION:2.0
PRODID:-//Dorset Raynet - ECPv6.15.20//NONSGML v1.0//EN
CALSCALE:GREGORIAN
METHOD:PUBLISH
X-ORIGINAL-URL:https://www.dorsetraynet.org
X-WR-CALDESC:Events for Dorset Raynet
REFRESH-INTERVAL;VALUE=DURATION:PT1H
X-Robots-Tag:noindex
X-PUBLISHED-TTL:PT1H
BEGIN:VTIMEZONE
TZID:UTC
BEGIN:STANDARD
TZOFFSETFROM:+0000
TZOFFSETTO:+0000
TZNAME:UTC
DTSTART:20230101T000000
END:STANDARD
END:VTIMEZONE
BEGIN:VEVENT
DTSTART;TZID=UTC:20241009T073000
DTEND;TZID=UTC:20241009T230000
DTSTAMP:20260420T213845
CREATED:20240211T133049Z
LAST-MODIFIED:20240211T133049Z
UID:211-1728459000-1728514800@www.dorsetraynet.org
SUMMARY:Tavistock Goose Fair
DESCRIPTION:
URL:https://www.dorsetraynet.org/event/tavistock-goose-fair-2/
CATEGORIES:ASSIST
END:VEVENT
END:VCALENDAR