BEGIN:VCALENDAR
VERSION:2.0
PRODID:-//Dorset Raynet - ECPv6.15.20//NONSGML v1.0//EN
CALSCALE:GREGORIAN
METHOD:PUBLISH
X-WR-CALNAME:Dorset Raynet
X-ORIGINAL-URL:https://www.dorsetraynet.org
X-WR-CALDESC:Events for Dorset Raynet
REFRESH-INTERVAL;VALUE=DURATION:PT1H
X-Robots-Tag:noindex
X-PUBLISHED-TTL:PT1H
BEGIN:VTIMEZONE
TZID:UTC
BEGIN:STANDARD
TZOFFSETFROM:+0000
TZOFFSETTO:+0000
TZNAME:UTC
DTSTART:20230101T000000
END:STANDARD
END:VTIMEZONE
BEGIN:VEVENT
DTSTART;TZID=UTC:20241005T073000
DTEND;TZID=UTC:20241005T150000
DTSTAMP:20260420T213718
CREATED:20240211T133213Z
LAST-MODIFIED:20241107T170528Z
UID:213-1728113400-1728140400@www.dorsetraynet.org
SUMMARY:NATB Dog Sled Hinton Admiral
DESCRIPTION:
URL:https://www.dorsetraynet.org/event/natb-dog-sled-venue-tba-11/
CATEGORIES:EVENT
END:VEVENT
BEGIN:VEVENT
DTSTART;TZID=UTC:20241005T080000
DTEND;TZID=UTC:20241005T180000
DTSTAMP:20260420T213718
CREATED:20240211T134233Z
LAST-MODIFIED:20240211T134233Z
UID:221-1728115200-1728151200@www.dorsetraynet.org
SUMMARY:Scout Day Event - Sixpenny Handley
DESCRIPTION:
URL:https://www.dorsetraynet.org/event/scout-day-event-sixpenny-handley/
CATEGORIES:EVENT
END:VEVENT
END:VCALENDAR