BEGIN:VCALENDAR
VERSION:2.0
PRODID:-//Dorset Raynet - ECPv6.15.20//NONSGML v1.0//EN
CALSCALE:GREGORIAN
METHOD:PUBLISH
X-ORIGINAL-URL:https://www.dorsetraynet.org
X-WR-CALDESC:Events for Dorset Raynet
REFRESH-INTERVAL;VALUE=DURATION:PT1H
X-Robots-Tag:noindex
X-PUBLISHED-TTL:PT1H
BEGIN:VTIMEZONE
TZID:UTC
BEGIN:STANDARD
TZOFFSETFROM:+0000
TZOFFSETTO:+0000
TZNAME:UTC
DTSTART:20230101T000000
END:STANDARD
END:VTIMEZONE
BEGIN:VEVENT
DTSTART;TZID=UTC:20240721T073000
DTEND;TZID=UTC:20240721T180000
DTSTAMP:20260421T022416
CREATED:20240211T132402Z
LAST-MODIFIED:20240211T132402Z
UID:203-1721547000-1721584800@www.dorsetraynet.org
SUMMARY:EGB Witham Vale (Frome area)
DESCRIPTION:
URL:https://www.dorsetraynet.org/event/egb-witham-vale-frome-area/
CATEGORIES:EVENT
END:VEVENT
END:VCALENDAR