BEGIN:VCALENDAR
VERSION:2.0
PRODID:-//Dorset Raynet - ECPv6.15.20//NONSGML v1.0//EN
CALSCALE:GREGORIAN
METHOD:PUBLISH
X-ORIGINAL-URL:https://www.dorsetraynet.org
X-WR-CALDESC:Events for Dorset Raynet
REFRESH-INTERVAL;VALUE=DURATION:PT1H
X-Robots-Tag:noindex
X-PUBLISHED-TTL:PT1H
BEGIN:VTIMEZONE
TZID:UTC
BEGIN:STANDARD
TZOFFSETFROM:+0000
TZOFFSETTO:+0000
TZNAME:UTC
DTSTART:20230101T000000
END:STANDARD
END:VTIMEZONE
BEGIN:VEVENT
DTSTART;TZID=UTC:20240330T170000
DTEND;TZID=UTC:20240330T233000
DTSTAMP:20260421T090357
CREATED:20230607T093951Z
LAST-MODIFIED:20230914T094641Z
UID:144-1711818000-1711841400@www.dorsetraynet.org
SUMMARY:NATB Dog Sled Night Run Swinley Forest (off M3 J3)
DESCRIPTION:
URL:https://www.dorsetraynet.org/event/natb-dog-sled-night-run-venue-tba-2/
CATEGORIES:EVENT
END:VEVENT
END:VCALENDAR