BEGIN:VCALENDAR
VERSION:2.0
PRODID:-//Dorset Raynet - ECPv6.15.20//NONSGML v1.0//EN
CALSCALE:GREGORIAN
METHOD:PUBLISH
X-WR-CALNAME:Dorset Raynet
X-ORIGINAL-URL:https://www.dorsetraynet.org
X-WR-CALDESC:Events for Dorset Raynet
REFRESH-INTERVAL;VALUE=DURATION:PT1H
X-Robots-Tag:noindex
X-PUBLISHED-TTL:PT1H
BEGIN:VTIMEZONE
TZID:UTC
BEGIN:STANDARD
TZOFFSETFROM:+0000
TZOFFSETTO:+0000
TZNAME:UTC
DTSTART:20230101T000000
END:STANDARD
END:VTIMEZONE
BEGIN:VEVENT
DTSTART;TZID=UTC:20240218T070000
DTEND;TZID=UTC:20240218T150000
DTSTAMP:20260421T102620
CREATED:20230607T093658Z
LAST-MODIFIED:20230914T094253Z
UID:138-1708239600-1708268400@www.dorsetraynet.org
SUMMARY:NATB Dog Sled Hinton Admiral
DESCRIPTION:
URL:https://www.dorsetraynet.org/event/natb-dog-sled-venue-tba-8/
CATEGORIES:EVENT
END:VEVENT
END:VCALENDAR